BEGIN:VCALENDAR
VERSION:2.0
PRODID:spatie/icalendar-generator
DESCRIPTION:Events from Saimaan Latu ry
X-WR-CALDESC:Events from Saimaan Latu ry
REFRESH-INTERVAL;VALUE=DURATION:PT1440M
X-PUBLISHED-TTL:PT1440M
BEGIN:VTIMEZONE
TZID:Europe/Helsinki
BEGIN:STANDARD
DTSTART:20251026T040000Z
TZOFFSETFROM:+0300
TZOFFSETTO:+0200
END:STANDARD
BEGIN:DAYLIGHT
DTSTART:20260329T030000Z
TZOFFSETFROM:+0200
TZOFFSETTO:+0300
END:DAYLIGHT
BEGIN:STANDARD
DTSTART:20261025T040000Z
TZOFFSETFROM:+0300
TZOFFSETTO:+0200
END:STANDARD
END:VTIMEZONE
BEGIN:VTIMEZONE
TZID:UTC
BEGIN:STANDARD
DTSTART:20250728T155055Z
TZOFFSETFROM:+0000
TZOFFSETTO:+0000
END:STANDARD
END:VTIMEZONE
BEGIN:VEVENT
UID:149-42
DTSTAMP:20260424T155055Z
SUMMARY:Itäinen rantaraitti
LOCATION:
ORGANIZER;CN=anonyymi:MAILTO:anu.karhu@saimaanlatu.fi
DTSTART;TZID=Europe/Helsinki:20260428T141500
DTEND;TZID=Europe/Helsinki:20260428T151500
X-ALT-DESC;FMTTYPE=TEXT/HTML:Itäisellä rantaraitilla kävellään 28.4. k
 lo 14.15 (Bussi numero 2 pysäh- tyy uimahallin kohdalle.) Lähtö Laurits
 alan uimahallilta ja reitti etenee kohti Mustolaa ja paluu kanavan toista 
 reunaa takaisin. Taukoja pidetään riittävästi. Juomapullo mukaan. Avoi
 n kaikille. Lisätiedot Helene Mentula p. 040 080 9847\, koiratoinx(at)gma
 il.com
CATEGORIES:retkeily
URL;VALUE=URI:https://saimaanlatu.fi/mc-events/itainen-rantaraitti/?mc_id=1
 49
END:VEVENT
END:VCALENDAR