BEGIN:VCALENDAR
VERSION:2.0
PRODID:spatie/icalendar-generator
DESCRIPTION:Events from Saimaan Latu ry
X-WR-CALDESC:Events from Saimaan Latu ry
REFRESH-INTERVAL;VALUE=DURATION:PT1440M
X-PUBLISHED-TTL:PT1440M
BEGIN:VTIMEZONE
TZID:Europe/Helsinki
BEGIN:DAYLIGHT
DTSTART:20250330T030000Z
TZOFFSETFROM:+0200
TZOFFSETTO:+0300
END:DAYLIGHT
BEGIN:STANDARD
DTSTART:20251026T040000Z
TZOFFSETFROM:+0300
TZOFFSETTO:+0200
END:STANDARD
BEGIN:DAYLIGHT
DTSTART:20260329T030000Z
TZOFFSETFROM:+0200
TZOFFSETTO:+0300
END:DAYLIGHT
END:VTIMEZONE
BEGIN:VTIMEZONE
TZID:UTC
BEGIN:STANDARD
DTSTART:20250728T163357Z
TZOFFSETFROM:+0000
TZOFFSETTO:+0000
END:STANDARD
END:VTIMEZONE
BEGIN:VEVENT
UID:126-27
DTSTAMP:20260424T163357Z
SUMMARY:Saimaan latu ry \, Syyskokous
LOCATION:Sydänalue ry:n tilat Valtakatu 64  Lappeenranta
ORGANIZER;CN=henri:MAILTO:h.kekkonen@gmail.com
DTSTART;TZID=Europe/Helsinki:20251125T180000
DTEND;TZID=Europe/Helsinki:20251125T203800
X-ALT-DESC;FMTTYPE=TEXT/HTML:Saimaan Latu ry:n sääntömääräinen syysko
 kous tiistaina 25.11.2025 klo 18.00 Etelä-Karjalan Sydänalue ry:n tilois
 sa Valtakatu 64\, Lappeenranta. Käsiteltävät asiat: Sääntömääräis
 et syyskokousasiat sekä yhdistyksen puheenjohtajan valinta. Kahvitarjoilu
  ja arvontaa. Tervetuloa! Saimaan Latu ry:n hallitus Uudet Sisu Grip -käv
 elysauvat kokeiltavina kokouspaikalla. Saimaan L
CATEGORIES:General,  kokous
URL;VALUE=URI:https://saimaanlatu.fi/mc-events/saimaan-latu-ry-syyskokous/?
 mc_id=126
END:VEVENT
END:VCALENDAR