BEGIN:VCALENDAR
VERSION:2.0
PRODID:spatie/icalendar-generator
DESCRIPTION:Events from Saimaan Latu ry
X-WR-CALDESC:Events from Saimaan Latu ry
REFRESH-INTERVAL;VALUE=DURATION:PT1440M
X-PUBLISHED-TTL:PT1440M
BEGIN:VTIMEZONE
TZID:Europe/Helsinki
BEGIN:DAYLIGHT
DTSTART:20250330T030000Z
TZOFFSETFROM:+0200
TZOFFSETTO:+0300
END:DAYLIGHT
BEGIN:STANDARD
DTSTART:20251026T040000Z
TZOFFSETFROM:+0300
TZOFFSETTO:+0200
END:STANDARD
BEGIN:DAYLIGHT
DTSTART:20260329T030000Z
TZOFFSETFROM:+0200
TZOFFSETTO:+0300
END:DAYLIGHT
END:VTIMEZONE
BEGIN:VTIMEZONE
TZID:UTC
BEGIN:STANDARD
DTSTART:20250728T131506Z
TZOFFSETFROM:+0000
TZOFFSETTO:+0000
END:STANDARD
END:VTIMEZONE
BEGIN:VEVENT
UID:127-28
DTSTAMP:20260424T131506Z
SUMMARY:Ylimääräinen yleinen kokous
LOCATION:Sydänalue ry:n tilat Valtakatu 64  Lappeenranta
ORGANIZER;CN=Tomi Lapinlampi:MAILTO:tomi.lapinlampi@gmail.com
DTSTART;TZID=Europe/Helsinki:20251217T180000
DTEND;TZID=Europe/Helsinki:20251217T200000
X-ALT-DESC;FMTTYPE=TEXT/HTML:Käsiteltävänä asiana: yhdistyksen puheenjo
 htajan valinta Kahvitarjoilu! Tervetuloa! Saimaan Latu ry:n hallitus
CATEGORIES:kokous
URL;VALUE=URI:https://saimaanlatu.fi/mc-events/ylimaarainen-yleinen-kokous/
 ?mc_id=127
END:VEVENT
END:VCALENDAR